BEGIN:VCALENDAR
VERSION:2.0
PRODID:-//Luftsportverein Hünsborn e.V. - ECPv6.15.11//NONSGML v1.0//EN
CALSCALE:GREGORIAN
METHOD:PUBLISH
X-ORIGINAL-URL:https://lsvh.de
X-WR-CALDESC:Veranstaltungen für Luftsportverein Hünsborn e.V.
REFRESH-INTERVAL;VALUE=DURATION:PT1H
X-Robots-Tag:noindex
X-PUBLISHED-TTL:PT1H
BEGIN:VTIMEZONE
TZID:Europe/Berlin
BEGIN:DAYLIGHT
TZOFFSETFROM:+0100
TZOFFSETTO:+0200
TZNAME:CEST
DTSTART:20200329T010000
END:DAYLIGHT
BEGIN:STANDARD
TZOFFSETFROM:+0200
TZOFFSETTO:+0100
TZNAME:CET
DTSTART:20201025T010000
END:STANDARD
BEGIN:DAYLIGHT
TZOFFSETFROM:+0100
TZOFFSETTO:+0200
TZNAME:CEST
DTSTART:20210328T010000
END:DAYLIGHT
BEGIN:STANDARD
TZOFFSETFROM:+0200
TZOFFSETTO:+0100
TZNAME:CET
DTSTART:20211031T010000
END:STANDARD
BEGIN:DAYLIGHT
TZOFFSETFROM:+0100
TZOFFSETTO:+0200
TZNAME:CEST
DTSTART:20220327T010000
END:DAYLIGHT
BEGIN:STANDARD
TZOFFSETFROM:+0200
TZOFFSETTO:+0100
TZNAME:CET
DTSTART:20221030T010000
END:STANDARD
END:VTIMEZONE
BEGIN:VEVENT
DTSTART;TZID=Europe/Berlin:20211113T080000
DTEND;TZID=Europe/Berlin:20211114T180000
DTSTAMP:20260419T145047
CREATED:20210313T070041Z
LAST-MODIFIED:20210722T194849Z
UID:2909-1636790400-1636912800@lsvh.de
SUMMARY:Vereinsfahrt nach Wiesbaden
DESCRIPTION:Nachdem die traditionelle Vereinsfahrt im letzten Jahr pandemiebedingt ausfallen musste\, ist sie für dieses Jahr erneut geplant. Vom 13. bis 14. November geht es in diesem Jahr nach Wiesbaden.
URL:https://lsvh.de/termine/vereinsfahrt-nach-wiesbaden/
LOCATION:Dornseifer\, Otto-Hahn-Straße 1\, Hünsborn\, 57482
END:VEVENT
END:VCALENDAR